BEGIN:VCALENDAR
VERSION:2.0
PRODID:-//eventon.com NONSGML v1.0//EN
CALSCALE:GREGORIAN
METHOD:PUBLISH
BEGIN:VEVENT
UID:69e88e0bc96dc
DTSTAMP:20260422T085955Z
DTSTART:20260521T160000Z
DTEND:20260521T180000Z
LOCATION:
SUMMARY:Entraînement
DESCRIPTION:\nhttps://www.lerupalet.ch/events/entrainement-4/
URL:https://www.lerupalet.ch/events/entrainement-4/
END:VEVENT
END:VCALENDAR